BEGIN:VCALENDAR
VERSION:2.0
PRODID:-//wp-events-plugin.com//7.2.3//EN
TZID:America/Los_Angeles
X-WR-TIMEZONE:America/Los_Angeles
BEGIN:VEVENT
UID:0-1691@hmc.edu
DTSTART;TZID=America/Los_Angeles:20251111T142000
DTEND;TZID=America/Los_Angeles:20251111T143000
DTSTAMP:20251103T234329Z
URL:https://www.hmc.edu/calendar/events/practice-lockdown-exercise/
SUMMARY:Practice Lockdown Exercise
DESCRIPTION:A lockdown is an emergency protocol designed to secure and prot
 ect individuals who are near an immediate threat. This procedure is used w
 hen it may be more dangerous to evacuate a building than to remain indoors
 . At 2:20 p.m.\, HMC will initiate the exercise with an announcement sent 
 via Mudd Alert\, which you will receive through your HMC email (and by tex
 t message if you’ve chosen to opt in for text notifications using the Mu
 dd Alert Registration form).\n\nThe goal of this exercise is to practice s
 ecuring yourself in your current location should an emergency situation ar
 ise. The exercise will conclude no later than 2:30 p.m. with a second Mudd
  Alert notification indicating that it has ended. If you do not receive th
 e first or second Mudd Alert messages\, please proceed with initiating and
  concluding the exercise on your own wherever you are on campus during thi
 s timeframe. Please note: You are not being asked to evacuate during this 
 lockdown exercise.\n\nThank you for your time and participation in this im
 portant emergency preparedness and safety exercise.\nSign up for Mudd Aler
 t today!\nThe Harvey Mudd College mass notification system\, Mudd Alert\, 
 provides rapid emergency notifications to the Harvey Mudd community during
  crucial emergency situations\, such as severe environmental conditions\, 
 acts of unexpected violence on campus or other circumstances that call for
  immediate notification or action.\n\nDuring an emergency\, Mudd Alert mes
 sages will contain real-time updates\, important information or other inst
 ructions. All campus email addresses are connected to the Mudd Alert syste
 m. To receive a Mudd Alert message on a cell phone\, sign up using the Mud
 d Alert Registration Form. Although registering your mobile device to rece
 ive a text message is optional\, it is highly recommended. Every community
  member is encouraged to add their cell phone to the system and to partici
 pate in regular Harvey Mudd emergency preparedness exercises.
CATEGORIES:Faculty,Staff,Students
END:VEVENT
BEGIN:VTIMEZONE
TZID:America/Los_Angeles
X-LIC-LOCATION:America/Los_Angeles
BEGIN:STANDARD
DTSTART:20251102T010000
TZOFFSETFROM:-0700
TZOFFSETTO:-0800
TZNAME:PST
END:STANDARD
END:VTIMEZONE
END:VCALENDAR