BEGIN:VCALENDAR
VERSION:2.0
PRODID:-//wp-events-plugin.com//7.2.3//EN
TZID:America/Los_Angeles
X-WR-TIMEZONE:America/Los_Angeles
BEGIN:VEVENT
UID:0-1619@hmc.edu
DTSTART;TZID=America/Los_Angeles:20250924T120000
DTEND;TZID=America/Los_Angeles:20250924T130000
DTSTAMP:20250814T231659Z
URL:https://www.hmc.edu/calendar/events/ocs-presents-pre-health-community-
 lunch/
SUMMARY:OCS Presents: Pre-Health Community Lunch
DESCRIPTION:Interested in health careers? Join our Pre-Health Community Lun
 ches where we will meet once a month in the Hoch to connect casually\, che
 ck in with each other\, and share announcements. This semester's lunches w
 ill be from 12-1pm on September 24\, October 23\, and December 4\, at diff
 erent locations in the Hoch. You do not need to attend all lunches\, or fo
 r the full hour\, just drop by when you can!\n\nFor this lunch on Septembe
 r 24\, will be in the Aviation Room in the Hoch\, and Dr. Jay Iinuma will 
 be our guest speaker. Dr. Iinuma is a family physician with his own practi
 ce in Southern California!
CATEGORIES:Students
LOCATION:Hoch-Shanahan Dining Commons\, 385 Platt Blvd.\, Claremont\, CA\, 
 91711\, United States
X-APPLE-STRUCTURED-LOCATION;VALUE=URI;X-ADDRESS=385 Platt Blvd.\, Claremont
 \, CA\, 91711\, United States;X-APPLE-RADIUS=100;X-TITLE=Hoch-Shanahan Din
 ing Commons:geo:0,0
END:VEVENT
BEGIN:VTIMEZONE
TZID:America/Los_Angeles
X-LIC-LOCATION:America/Los_Angeles
BEGIN:DAYLIGHT
DTSTART:20250309T030000
TZOFFSETFROM:-0800
TZOFFSETTO:-0700
TZNAME:PDT
END:DAYLIGHT
END:VTIMEZONE
END:VCALENDAR