BEGIN:VCALENDAR
VERSION:2.0
PRODID:-//wp-events-plugin.com//7.2.3//EN
TZID:America/Los_Angeles
X-WR-TIMEZONE:America/Los_Angeles
BEGIN:VEVENT
UID:0-1614@hmc.edu
DTSTART;TZID=America/Los_Angeles:20250925T113000
DTEND;TZID=America/Los_Angeles:20250925T123000
DTSTAMP:20250814T231511Z
URL:https://www.hmc.edu/calendar/events/ocs-presents-career-exploration/
SUMMARY:OCS Presents: Career Exploration
DESCRIPTION:Discover possible career paths in this workshop that covers exp
 loring opportunities\, researching industries\, and reflecting on your str
 engths and interests. 
CATEGORIES:Students
LOCATION:Shanahan Center\, 320 E. Foothill Blvd.\, Claremont\, CA\, 91711\,
  United States
X-APPLE-STRUCTURED-LOCATION;VALUE=URI;X-ADDRESS=320 E. Foothill Blvd.\, Cla
 remont\, CA\, 91711\, United States;X-APPLE-RADIUS=100;X-TITLE=Shanahan Ce
 nter:geo:0,0
END:VEVENT
BEGIN:VTIMEZONE
TZID:America/Los_Angeles
X-LIC-LOCATION:America/Los_Angeles
BEGIN:DAYLIGHT
DTSTART:20250309T030000
TZOFFSETFROM:-0800
TZOFFSETTO:-0700
TZNAME:PDT
END:DAYLIGHT
END:VTIMEZONE
END:VCALENDAR