BEGIN:VCALENDAR
VERSION:2.0
PRODID:-//wp-events-plugin.com//7.2.3//EN
TZID:America/Los_Angeles
X-WR-TIMEZONE:America/Los_Angeles
BEGIN:VEVENT
UID:0-1719@hmc.edu
DTSTART;TZID=America/Los_Angeles:20260210T110000
DTEND;TZID=America/Los_Angeles:20260210T120000
DTSTAMP:20260115T191227Z
URL:https://www.hmc.edu/calendar/events/hr-monthly-learning-series-embraci
 ng-happiness/
SUMMARY:HR Monthly Learning Series: Embracing Happiness
DESCRIPTION:The Office of Human Resources continues its spring learning ser
 ies in partnership with Optum\, featuring the theme “Ignite Your Impact:
  Creating Wellness\, Joy and Purpose at Work.” These monthly\, live\, in
 structor-led virtual sessions (via WebEx) are designed to help you bring e
 nergy\, motivation and meaning into your professional and personal life th
 rough engaging and practical topics. Each session will be recorded so you 
 can revisit the content at your convenience.
CATEGORIES:Staff
END:VEVENT
BEGIN:VTIMEZONE
TZID:America/Los_Angeles
X-LIC-LOCATION:America/Los_Angeles
BEGIN:STANDARD
DTSTART:20251102T010000
TZOFFSETFROM:-0700
TZOFFSETTO:-0800
TZNAME:PST
END:STANDARD
END:VTIMEZONE
END:VCALENDAR