BEGIN:VCALENDAR
VERSION:2.0
PRODID:-//wp-events-plugin.com//7.2.3//EN
TZID:America/Los_Angeles
X-WR-TIMEZONE:America/Los_Angeles
BEGIN:VEVENT
UID:0-1720@hmc.edu
DTSTART;TZID=America/Los_Angeles:20260317T110000
DTEND;TZID=America/Los_Angeles:20260317T120000
DTSTAMP:20251217T210001Z
URL:https://www.hmc.edu/calendar/events/hr-monthly-learning-series-creatin
 g-harmony-between-generations-at-work/
SUMMARY:HR Monthly Learning Series: Creating Harmony Between Generations at
  Work
DESCRIPTION:The Office of Human Resources continues its Spring Learning Ser
 ies in partnership with Optum\, featuring the theme: “Ignite Your Impact
 : Creating Wellness\, Joy and Purpose at Work.” These monthly\, live\, i
 nstructor-led virtual sessions (via WebEx) are designed to help you bring 
 energy\, motivation\, and meaning into your professional and personal life
  through engaging and practical topics. Each session will be recorded so y
 ou can revisit the content at your convenience.
CATEGORIES:Staff
END:VEVENT
BEGIN:VTIMEZONE
TZID:America/Los_Angeles
X-LIC-LOCATION:America/Los_Angeles
BEGIN:DAYLIGHT
DTSTART:20260308T030000
TZOFFSETFROM:-0800
TZOFFSETTO:-0700
TZNAME:PDT
END:DAYLIGHT
END:VTIMEZONE
END:VCALENDAR