BEGIN:VCALENDAR
VERSION:2.0
PRODID:-//wp-events-plugin.com//7.2.3//EN
TZID:America/Los_Angeles
X-WR-TIMEZONE:America/Los_Angeles
BEGIN:VEVENT
UID:0-1761@hmc.edu
DTSTART;TZID=America/Los_Angeles:20260223T120000
DTEND;TZID=America/Los_Angeles:20260223T130000
DTSTAMP:20260218T182539Z
URL:https://www.hmc.edu/calendar/events/honor-code-conversations/
SUMMARY:Honor Code Conversations
DESCRIPTION:The Honor Code Committee would like to invite you to join Honor
  Code Conversations over lunch at the picnic tables outside the Hoch (you 
 are welcome to drop in and leave as needed).** These are conversations amo
 ng faculty\, staff\, and students about how we can move forward as a commu
 nity to strengthen our Honor Code. Moving forward\, we plan to host these 
 conversations monthly. The topic for our first conversation is brainstormi
 ng a vision statement for the Honor Code. Come join us!\n\n**If there is i
 nclement weather\, we will meet in the Rose Hills patio (east side of Hoch
 ).
CATEGORIES:Faculty,Staff
LOCATION:Hoch-Shanahan Dining Commons\, 385 Platt Blvd.\, Claremont\, CA\, 
 91711\, United States
X-APPLE-STRUCTURED-LOCATION;VALUE=URI;X-ADDRESS=385 Platt Blvd.\, Claremont
 \, CA\, 91711\, United States;X-APPLE-RADIUS=100;X-TITLE=Hoch-Shanahan Din
 ing Commons:geo:0,0
END:VEVENT
BEGIN:VTIMEZONE
TZID:America/Los_Angeles
X-LIC-LOCATION:America/Los_Angeles
BEGIN:STANDARD
DTSTART:20251102T010000
TZOFFSETFROM:-0700
TZOFFSETTO:-0800
TZNAME:PST
END:STANDARD
END:VTIMEZONE
END:VCALENDAR