BEGIN:VCALENDAR
VERSION:2.0
PRODID:-//wp-events-plugin.com//7.2.3//EN
TZID:America/Los_Angeles
X-WR-TIMEZONE:America/Los_Angeles
BEGIN:VEVENT
UID:0-1686@hmc.edu
DTSTART;TZID=America/Los_Angeles:20251016T101600
DTEND;TZID=America/Los_Angeles:20251016T101600
DTSTAMP:20251015T153516Z
URL:https://www.hmc.edu/calendar/events/great-shakeout-earthquake-exercise
 /
SUMMARY:Great ShakeOut Earthquake Exercise
DESCRIPTION:The Great ShakeOut is an opportunity for our community to pract
 ice what to do during an earthquake (drop\, cover\, and hold on). In the e
 vent of a real earthquake\, a notification will be sent via Mudd Alert con
 taining important information and instructions. \n\nIn most situations\, i
 f you feel shaking or receive an earthquake alert\, you should immediately
 :\n\nDrop where you are\, onto your hands and knees. This position protect
 s you from being knocked down and reduces your chances of being hit by fal
 ling or flying objects.\n \nCover your head and neck with one arm and hand
 . If a sturdy table or desk is nearby\, crawl underneath for shelter. If n
 o shelter is nearby\, crawl next to an interior wall. Stay on your knees\;
  bend over to protect vital organs.\n \nHold on until the shaking stops. I
 f you’re under shelter\, hold on to it with one hand and be ready to mov
 e with your shelter if it shifts. If you are not under shelter\, cover you
 r head and neck with both arms and hands.\n \nFor the purpose of this exer
 cise\, we encourage community members to practice these steps for one minu
 te upon receiving the Mudd Alert notification. Thank you for your time and
  participation in this important emergency preparedness exercise.
CATEGORIES:Faculty,Staff,Students
END:VEVENT
BEGIN:VTIMEZONE
TZID:America/Los_Angeles
X-LIC-LOCATION:America/Los_Angeles
BEGIN:DAYLIGHT
DTSTART:20250309T030000
TZOFFSETFROM:-0800
TZOFFSETTO:-0700
TZNAME:PDT
END:DAYLIGHT
END:VTIMEZONE
END:VCALENDAR