BEGIN:VCALENDAR
VERSION:2.0
PRODID:-//wp-events-plugin.com//7.2.3//EN
TZID:America/Los_Angeles
X-WR-TIMEZONE:America/Los_Angeles
BEGIN:VEVENT
UID:0-1780@hmc.edu
DTSTART;TZID=America/Los_Angeles:20260417T110000
DTEND;TZID=America/Los_Angeles:20260417T121500
DTSTAMP:20260331T062357Z
URL:https://www.hmc.edu/calendar/events/cs-colloquium-systems-thinking-and
 -the-art-of-games-israel-jones/
SUMMARY:CS Colloquium: “Systems Thinking and the Art of Games\,” Israel
  Jones ’19
DESCRIPTION:At Harvey Mudd\, students learn to become highly competent scie
 ntists and engineers\, but beyond that they learn skills for analyzing the
  world around them\, seeing things from different perspectives and breakin
 g down the underlying systems that exist in many diverse contexts. Althoug
 h many students will go on to work in more traditional technical industrie
 s\, the skills learned at Mudd can be applied to many different pursuits: 
 art\, policy\, business and more. Through the lens of video games\, Israel
  Jones will discuss ways that systems thinking can be brought to bear in f
 ields we would traditionally consider less “technical\,” such as the a
 rts. Jones will go through broad problem spaces in the industry as well as
  incredibly specific problems that he's tackled in his own work\, discussi
 ng the ways a technically trained perspective can provide solutions to non
 -technical problems.\nSpeaker\nIsrael Jones ’19 is a gameplay engineer a
 nd technical designer at Secret Door. He majored in CS/math with a concent
 ration in literature and media studies. In his senior year\, he realized h
 e felt called to creative pursuits but still had a love for math and progr
 amming. He then went on to pursue his master's in interactive media at USC
 \, where he identified more clearly how he could stand at the crossroads o
 f work that is both artistically fulfilling and technically challenging. H
 e has now spent four years sitting in an office doing that. Outside of wor
 k he also does choir\, improv and student mentoring. If you want\, he coul
 d even mentor you!
CATEGORIES:Faculty,Staff,Students
LOCATION:Shanahan Center\, 320 E. Foothill Blvd.\, Claremont\, CA\, 91711\,
  United States
X-APPLE-STRUCTURED-LOCATION;VALUE=URI;X-ADDRESS=320 E. Foothill Blvd.\, Cla
 remont\, CA\, 91711\, United States;X-APPLE-RADIUS=100;X-TITLE=Shanahan Ce
 nter:geo:0,0
END:VEVENT
BEGIN:VTIMEZONE
TZID:America/Los_Angeles
X-LIC-LOCATION:America/Los_Angeles
BEGIN:DAYLIGHT
DTSTART:20260308T030000
TZOFFSETFROM:-0800
TZOFFSETTO:-0700
TZNAME:PDT
END:DAYLIGHT
END:VTIMEZONE
END:VCALENDAR