BEGIN:VCALENDAR
VERSION:2.0
PRODID:-//wp-events-plugin.com//7.2.3//EN
TZID:America/Los_Angeles
X-WR-TIMEZONE:America/Los_Angeles
BEGIN:VEVENT
UID:0-1685@hmc.edu
DTSTART;TZID=America/Los_Angeles:20251003T110000
DTEND;TZID=America/Los_Angeles:20251003T121500
DTSTAMP:20251015T153536Z
URL:https://www.hmc.edu/calendar/events/cs-colloquium-speaker-colleen-lewi
 s-researching-how-people-learn-cs-and-how-people-feel-about-learning-cs-2/
SUMMARY:CS Colloquium Speaker Colleen Lewis Researching how people learn CS
  and how people feel about learning CS
DESCRIPTION:The K-12 through college CS pipeline is full of barriers and th
 ose barriers prevent broader participation in the field. I’ll describe s
 ome of my research to try to identify or remove some of those barriers. I 
 hope you will learn a bit more about CS education research and how you can
  advocate for policies and practices that can broaden participation in CS!
CATEGORIES:Faculty,Staff,Students
LOCATION:Shanahan Center\, 320 E. Foothill Blvd.\, Claremont\, CA\, 91711\,
  United States
X-APPLE-STRUCTURED-LOCATION;VALUE=URI;X-ADDRESS=320 E. Foothill Blvd.\, Cla
 remont\, CA\, 91711\, United States;X-APPLE-RADIUS=100;X-TITLE=Shanahan Ce
 nter:geo:0,0
END:VEVENT
BEGIN:VTIMEZONE
TZID:America/Los_Angeles
X-LIC-LOCATION:America/Los_Angeles
BEGIN:DAYLIGHT
DTSTART:20250309T030000
TZOFFSETFROM:-0800
TZOFFSETTO:-0700
TZNAME:PDT
END:DAYLIGHT
END:VTIMEZONE
END:VCALENDAR