BEGIN:VCALENDAR
VERSION:2.0
PRODID:-//wp-events-plugin.com//7.2.3//EN
TZID:America/Los_Angeles
X-WR-TIMEZONE:America/Los_Angeles
BEGIN:VEVENT
UID:0-1748@hmc.edu
DTSTART;TZID=America/Los_Angeles:20260130T110000
DTEND;TZID=America/Los_Angeles:20260130T121500
DTSTAMP:20260123T005303Z
URL:https://www.hmc.edu/calendar/events/cs-colloquium-jason-rosenhouse/
SUMMARY:CS Colloquium: Jason Rosenhouse
DESCRIPTION:"The Abuse of Math and CS in the Service of Anti-Science Agenda
 s"\nMathematics and Computer Science are powerful disciplines with myriad 
 practical applications\, but their central concepts can be confusing for l
 ay people to understand. This makes it possible for ideologues to abuse th
 ose concepts in the service of anti-science agendas. We will consider seve
 ral examples of the importance of mathematical and computational literacy 
 in considering a variety of scientific questions. We will pay particular a
 ttention to the abuse of math and CS in the literature of creationism and 
 intelligent design.\nSpeaker\nJason Rosenhouse is a professor of mathemati
 cs at James Madison University. He is the author or editor of nine books o
 n subjects such as recreational mathematics and evolution and creationism.
  From 2020-2025\, he was the editor of Mathematics Magazine\, published by
  the Mathematical Association of America. When not doing math\, he enjoys 
 chess\, cooking and reading locked-room mysteries.
ATTACH;FMTTYPE=image/jpeg:https://www.hmc.edu/calendar/wp-content/uploads/
 sites/39/2026/01/Rosenhouse.jpg
CATEGORIES:Faculty,General Feed,Staff,Students,TCCS Feed: Lecture
LOCATION:Shanahan Center\, 320 E. Foothill Blvd.\, Claremont\, CA\, 91711\,
  United States
X-APPLE-STRUCTURED-LOCATION;VALUE=URI;X-ADDRESS=320 E. Foothill Blvd.\, Cla
 remont\, CA\, 91711\, United States;X-APPLE-RADIUS=100;X-TITLE=Shanahan Ce
 nter:geo:0,0
END:VEVENT
BEGIN:VTIMEZONE
TZID:America/Los_Angeles
X-LIC-LOCATION:America/Los_Angeles
BEGIN:STANDARD
DTSTART:20251102T010000
TZOFFSETFROM:-0700
TZOFFSETTO:-0800
TZNAME:PST
END:STANDARD
END:VTIMEZONE
END:VCALENDAR