BEGIN:VCALENDAR
VERSION:2.0
PRODID:-//wp-events-plugin.com//7.2.3//EN
TZID:America/Los_Angeles
X-WR-TIMEZONE:America/Los_Angeles
BEGIN:VEVENT
UID:0-1782@hmc.edu
DTSTART;TZID=America/Los_Angeles:20260422T090000
DTEND;TZID=America/Los_Angeles:20260422T100000
DTSTAMP:20260331T035717Z
URL:https://www.hmc.edu/calendar/events/community-conversations-news-in-th
 e-modern-world-expectations-vs-reality/
SUMMARY:Community Conversations: “News in the Modern World: Expectations 
 vs. Reality”
DESCRIPTION:HMC Community Conversations offer small-group dialogue (3–5 p
 articipants)\, guided by shared agreements like Listen and Be Curious and 
 Show Respect and Suspend Judgment. This is not a debate—there’s no pre
 ssure to persuade or agree. Instead\, we’ll listen\, reflect and learn f
 rom one another.\n\nThe topic of conversation for this gathering is “New
 s in the Modern World.”\n\nWhile registration isn’t required\, it help
 s us plan. We hope you can join us.
CATEGORIES:Faculty,Staff
LOCATION:Hoch-Shanahan Dining Commons\, 385 Platt Blvd.\, Claremont\, CA\, 
 91711\, United States
X-APPLE-STRUCTURED-LOCATION;VALUE=URI;X-ADDRESS=385 Platt Blvd.\, Claremont
 \, CA\, 91711\, United States;X-APPLE-RADIUS=100;X-TITLE=Hoch-Shanahan Din
 ing Commons:geo:0,0
END:VEVENT
BEGIN:VTIMEZONE
TZID:America/Los_Angeles
X-LIC-LOCATION:America/Los_Angeles
BEGIN:DAYLIGHT
DTSTART:20260308T030000
TZOFFSETFROM:-0800
TZOFFSETTO:-0700
TZNAME:PDT
END:DAYLIGHT
END:VTIMEZONE
END:VCALENDAR