BEGIN:VCALENDAR
VERSION:2.0
PRODID:-//wp-events-plugin.com//7.2.3//EN
TZID:America/Los_Angeles
X-WR-TIMEZONE:America/Los_Angeles
BEGIN:VEVENT
UID:0-1622@hmc.edu
DTSTART;TZID=America/Los_Angeles:20250917T090000
DTEND;TZID=America/Los_Angeles:20250917T100000
DTSTAMP:20250815T175349Z
URL:https://www.hmc.edu/calendar/events/coffee-with-the-cabinet-2/
SUMMARY:Coffee with the Cabinet
DESCRIPTION:The Cabinet is hosting informal coffee breaks in fall 2025 for 
 students\, faculty and staff. These coffee breaks will be attended by most
  of the Cabinet team and will provide an opportunity for the community to 
 share ideas\, express concerns and highlight successes.\n\nAll are welcome
  to stop by as schedules allow.
CATEGORIES:Faculty,Staff,Students
LOCATION:Platt Campus Center\, 340 E. Foothill Blvd\, Claremont\, CA\, 9171
 1\, United States
X-APPLE-STRUCTURED-LOCATION;VALUE=URI;X-ADDRESS=340 E. Foothill Blvd\, Clar
 emont\, CA\, 91711\, United States;X-APPLE-RADIUS=100;X-TITLE=Platt Campus
  Center:geo:0,0
END:VEVENT
BEGIN:VTIMEZONE
TZID:America/Los_Angeles
X-LIC-LOCATION:America/Los_Angeles
BEGIN:DAYLIGHT
DTSTART:20250309T030000
TZOFFSETFROM:-0800
TZOFFSETTO:-0700
TZNAME:PDT
END:DAYLIGHT
END:VTIMEZONE
END:VCALENDAR