BEGIN:VCALENDAR
VERSION:2.0
PRODID:-//wp-events-plugin.com//7.2.3//EN
TZID:America/Los_Angeles
X-WR-TIMEZONE:America/Los_Angeles
BEGIN:VEVENT
UID:0-1629@hmc.edu
DTSTART;TZID=America/Los_Angeles:20250826T150000
DTEND;TZID=America/Los_Angeles:20250826T170000
DTSTAMP:20250819T193146Z
URL:https://www.hmc.edu/calendar/events/all-campus-ice-cream-social/
SUMMARY:All-campus Ice Cream Social
DESCRIPTION:Galileo Foyer and Hixon Court.\n\nWelcome Remarks by President 
 Nembhard at 3:10 p.m.\n\nFaculty\, staff and students are invited to atten
 d. Hosted by the Office of the President.
CATEGORIES:Faculty,Staff,Students
END:VEVENT
BEGIN:VTIMEZONE
TZID:America/Los_Angeles
X-LIC-LOCATION:America/Los_Angeles
BEGIN:DAYLIGHT
DTSTART:20250309T030000
TZOFFSETFROM:-0800
TZOFFSETTO:-0700
TZNAME:PDT
END:DAYLIGHT
END:VTIMEZONE
END:VCALENDAR