BEGIN:VCALENDAR
VERSION:2.0
PRODID:-//wp-events-plugin.com//7.2.3//EN
TZID:America/Los_Angeles
X-WR-TIMEZONE:America/Los_Angeles
BEGIN:VEVENT
UID:0-1698@hmc.edu
DTSTART;TZID=America/Los_Angeles:20251205T150000
DTEND;TZID=America/Los_Angeles:20251205T170000
DTSTAMP:20251110T203539Z
URL:https://www.hmc.edu/calendar/events/70th-anniversary-celebration/
SUMMARY:70th Anniversary Celebration
DESCRIPTION:Celebrate 70 Years\nEnjoy an afternoon of connection\, creativi
 ty and community!\n\nRaise a Mudder Mocktail\, groove to music of the 70
 ’s\, get crafty with the makerspace stewards\, snap fun photos\, score s
 ome limited-edition swag and enjoy a slice of the anniversary cake. Presid
 ent Nembhard and fellow community members will share reflections and hopes
  for the decades ahead\, and we’ll explore the Mudd Moments Mosaic—a v
 ibrant collection of photos capturing the memories and milestones that def
 ine the Harvey Mudd experience.\n\nThis event is open to the Harvey Mudd C
 ollege campus community.
CATEGORIES:Faculty,Staff,Students
LOCATION:Platt Campus Center\, 340 E. Foothill Blvd\, Claremont\, CA\, 9171
 1\, United States
X-APPLE-STRUCTURED-LOCATION;VALUE=URI;X-ADDRESS=340 E. Foothill Blvd\, Clar
 emont\, CA\, 91711\, United States;X-APPLE-RADIUS=100;X-TITLE=Platt Campus
  Center:geo:0,0
END:VEVENT
BEGIN:VTIMEZONE
TZID:America/Los_Angeles
X-LIC-LOCATION:America/Los_Angeles
BEGIN:STANDARD
DTSTART:20251102T010000
TZOFFSETFROM:-0700
TZOFFSETTO:-0800
TZNAME:PST
END:STANDARD
END:VTIMEZONE
END:VCALENDAR