BEGIN:VCALENDAR
VERSION:2.0
PRODID:-//wp-events-plugin.com//7.2.3//EN
TZID:America/Los_Angeles
X-WR-TIMEZONE:America/Los_Angeles
BEGIN:VEVENT
UID:0-1550@hmc.edu
DTSTART;TZID=America/Los_Angeles:20250306T110000
DTEND;TZID=America/Los_Angeles:20250306T190000
DTSTAMP:20250207T054049Z
URL:https://www.hmc.edu/calendar/events/2025-annenberg-leadership-forum/
SUMMARY:2025 Annenberg Leadership Forum: Panel Discussion and Dinner Progra
 m
DESCRIPTION:“Entrepreneurship for Social Good”\n11 a.m.–noon\nDrinkwa
 rd Recital Hall\n\nJoin us for an inspiring conversation featuring Ajit Si
 ngh\, partner at Artiman Ventures\, and Mellody Hobson\, co-CEO and presid
 ent of Ariel Investments\, moderated by Harvey Mudd College President Harr
 iet Nembhard. This dynamic panel will explore how entrepreneurship can dri
 ve meaningful social impact\, with a focus on achieving the United Nations
  Sustainable Development Goals.\nDinner Program Presented by the Harvey Mu
 dd President’s Scholars\n5:30–7 p.m. \nJoseph B. Platt Campus Center\
 , Green Room \n\nJoin us for an engaging evening of learning and connecti
 on at the Harvey Mudd President’s Scholars Dinner and Dialogue program. 
 This special event builds on the insights shared during the morning panel\
 , “Entrepreneurship for Social Good\,” exploring how innovative thinki
 ng can drive meaningful social impact and advance the United Nations Susta
 inable Development Goals.\nAnnenberg Leadership Forum\nThe Annenberg Leade
 rship Forum is an integral part of Harvey Mudd College’s commitment to e
 ncouraging students to lead with integrity. Endowed through a generous gif
 t from The Walter and Leonore Annenberg Fund for Leadership Development\, 
 this series brings to campus accomplished individuals who are recognized\,
  world-class leaders in their fields of endeavor. The lectures provide an 
 engaging forum for senior executives to address pertinent leadership issue
 s and to share their insights with the HMC community.
ATTACH;FMTTYPE=image/jpeg:https://www.hmc.edu/calendar/wp-content/uploads/
 sites/39/2024/09/Annenberg-2024-768x450-1.png
CATEGORIES:Featured,General Feed,TCCS Feed: Lecture
LOCATION:Shanahan Center\, 320 E. Foothill Blvd.\, Claremont\, CA\, 91711\,
  United States
X-APPLE-STRUCTURED-LOCATION;VALUE=URI;X-ADDRESS=320 E. Foothill Blvd.\, Cla
 remont\, CA\, 91711\, United States;X-APPLE-RADIUS=100;X-TITLE=Shanahan Ce
 nter:geo:0,0
END:VEVENT
BEGIN:VTIMEZONE
TZID:America/Los_Angeles
X-LIC-LOCATION:America/Los_Angeles
BEGIN:STANDARD
DTSTART:20241103T010000
TZOFFSETFROM:-0700
TZOFFSETTO:-0800
TZNAME:PST
END:STANDARD
END:VTIMEZONE
END:VCALENDAR